BEGIN:VCALENDAR
VERSION:2.0
PRODID:-//SNDT College of Home Science - ECPv6.4.0.1//NONSGML v1.0//EN
CALSCALE:GREGORIAN
METHOD:PUBLISH
X-WR-CALNAME:SNDT College of Home Science
X-ORIGINAL-URL:https://sndthsc.com
X-WR-CALDESC:Events for SNDT College of Home Science
REFRESH-INTERVAL;VALUE=DURATION:PT1H
X-Robots-Tag:noindex
X-PUBLISHED-TTL:PT1H
BEGIN:VTIMEZONE
TZID:Asia/Kolkata
BEGIN:STANDARD
TZOFFSETFROM:+0530
TZOFFSETTO:+0530
TZNAME:IST
DTSTART:20240101T000000
END:STANDARD
END:VTIMEZONE
BEGIN:VEVENT
DTSTART;VALUE=DATE:20241004
DTEND;VALUE=DATE:20241005
DTSTAMP:20260424T142101
CREATED:20241011T151940Z
LAST-MODIFIED:20241011T151940Z
UID:5862-1728000000-1728086399@sndthsc.com
SUMMARY:Orientation lecture on Understanding Entrepreneurship
DESCRIPTION:On 4th October 2024 an orientation lecture on ‘Understanding Entrepreneurship’ was conducted by ‘DeAsra’ for the students of SNDT College of Home Science.‘DeAsra is a foundation started by Dr.Anand Deshpande which helps easy running of small businesses. The platform simplifies the aspects of starting\, managing and growing of the small business. The resource person Mrs. Manisha Tapaswi made the orientation feel so friendly yet so professional for our students. More than 200 students registered and attended the orientation. The Principal Dr. Vrushali Nagarale welcomed the guests and highlighted the importance of entrepreneurship. The orientation program helped the students to identify their sparks of being an entrepreneur and to identify their future’s path. The fun problems in business how to classify and overcome them with the basic human nature made the program engaging.  The success stories of small businesses reaching heights surely made a positive impact on the students inspiring to be the entrepreneurs and job creators. \n 
URL:https://sndthsc.com/event/orientation-lecture-on-understanding-entrepreneurship/
CATEGORIES:College Event
ATTACH;FMTTYPE=image/jpeg:https://sndthsc.com/wp-content/uploads/2024/10/2-Orientation-on-Understanding-entrepreneurship.jpeg
END:VEVENT
BEGIN:VEVENT
DTSTART;VALUE=DATE:20241004
DTEND;VALUE=DATE:20241005
DTSTAMP:20260424T142101
CREATED:20241124T232003Z
LAST-MODIFIED:20241129T232023Z
UID:5874-1728000000-1728086399@sndthsc.com
SUMMARY:Guest Lecture on Preparing for Internship
DESCRIPTION:Internships are invaluable stepping stones in the journey toward a successful career. They provide hands-on experience\, industry insights\, and the opportunity to develop key skills as a powerful tool for personal and professional growth. A seminar was organized on 4th October 2024 on Preparing for Internship by Ms. Gayatri Tekale who is an alumni of the department and currently positioned as Principal Interior designer at Red Pencil Studio. The main purpose was to help students get equipped with knowledge regarding internship\, how to find best positions for the future\, best places to look for\, and how to prepare a portfolio.
URL:https://sndthsc.com/event/guest-lecture-on-preparing-for-internship/
CATEGORIES:College Event
ATTACH;FMTTYPE=image/jpeg:https://sndthsc.com/wp-content/uploads/2024/11/Guest-lecture-on-preparing-Inernship-b.jpg
END:VEVENT
BEGIN:VEVENT
DTSTART;VALUE=DATE:20241007
DTEND;VALUE=DATE:20241008
DTSTAMP:20260424T142101
CREATED:20241124T232028Z
LAST-MODIFIED:20241129T232245Z
UID:5880-1728259200-1728345599@sndthsc.com
SUMMARY:Celebration of International Architecture Day
DESCRIPTION:World Architecture Day\, celebrated on the first Monday of October each year\, is a global observance that honors the vital role of architecture in shaping the built environment and\, by extension\, our daily lives. \nThe students of RM Department celebrated this day on 7th October 2024\, through an innovative idea of displaying rich heritage of Indian monuments and glorifying the designs\, patterns and structural features of each state. The SY and TY students contributed in this event and collected the information which was transferred into a QR code and a display of Indian map was put up at the entrance lobby of SNDT College of Home Science\, Pune.  \nPrincipal Dr. Vrushali Nagarale (Addl. Charge) and Head of the Department Mrs. Anuja Kinikar along with the teaching faculty appreciated the efforts that had gone into making the event a big success. \n  \n \n 
URL:https://sndthsc.com/event/celebration-of-international-architecture-day/
CATEGORIES:College Event
ATTACH;FMTTYPE=image/jpeg:https://sndthsc.com/wp-content/uploads/2024/11/Celeberation-of-Architecture-day-2.jpeg
END:VEVENT
BEGIN:VEVENT
DTSTART;VALUE=DATE:20241009
DTEND;VALUE=DATE:20241010
DTSTAMP:20260424T142101
CREATED:20241124T232306Z
LAST-MODIFIED:20241129T232438Z
UID:5884-1728432000-1728518399@sndthsc.com
SUMMARY:Guest Lecture on Landscaping
DESCRIPTION:Landscaping is more than just arranging plants and installing a few garden features; it’s an art form that combines creativity\, nature\, and functionality. A well-designed landscape not only enhances the aesthetic appeal of the property but also creates a harmonious outdoor environment where one can relax\, entertain\, or enjoy nature. \nIn order to provide an in-depth knowledge about Landscaping\, a guest lecture was organized on 9th October\, 2024 by Department of Resource Management for TY.BSc. students specializing in Interior Designing to brief them about indoor and outdoor landscaping as well as principles of design. It helped students to understand various plants to be placed indoors and outdoors with its benefits through a detailed discussion. Ms. Neha Joshi was the resource person for the same. \n 
URL:https://sndthsc.com/event/guest-lecture-on-landscaping/
CATEGORIES:College Event
ATTACH;FMTTYPE=image/jpeg:https://sndthsc.com/wp-content/uploads/2024/11/Guest-lecture-on-Landscaping-1.jpeg
END:VEVENT
BEGIN:VEVENT
DTSTART;VALUE=DATE:20241019
DTEND;VALUE=DATE:20241020
DTSTAMP:20260424T142101
CREATED:20250108T234737Z
LAST-MODIFIED:20250108T234737Z
UID:5922-1729296000-1729382399@sndthsc.com
SUMMARY:One Day Fun School
DESCRIPTION:The Department of Human Development at SNDT College of Home Science organised a “One Day Fun School” for preschool parents on 19th October 2024. The event was inaugurated by our esteemed Principal\, Dr. Ganesh Chavan. The program featured an exhibition showcasing teaching materials and various activities created by students of B.Sc. Human Development. These resources were specifically designed to facilitate holistic development in preschool children. The displays included sensory activities\, art projects\, and educational games that promote cognitive\, emotional\, and physical development. fun games and activities were organised for preschool children. These games were strategically designed to enhance skills such as teamwork\, problem-solving\, and motor coordination\, all while ensuring a fun and engaging experience for the children. Two informative lectures were arranged for parents\, focusing on child nutrition and the importance of preschool education. The event attracted a large number of parents\, and bothchildren and parents actively participated in the program. Feedback from attendees was overwhelmingly positive\, indicating that the program was aresounding success. One Day Fun School was a remarkable success\, achieving itsobjectives of fostering parental engagement and promoting holistic development for preschool children. The event not only provided valuable resources and knowledge to parents but also created a joyful atmosphere for children to learn and play together. \n 
URL:https://sndthsc.com/event/one-day-fun-school/
CATEGORIES:College Event
ATTACH;FMTTYPE=image/jpeg:https://sndthsc.com/wp-content/uploads/2025/01/One-Day-Funschool-1.jpg
END:VEVENT
BEGIN:VEVENT
DTSTART;VALUE=DATE:20241023
DTEND;VALUE=DATE:20241024
DTSTAMP:20260424T142101
CREATED:20241124T232452Z
LAST-MODIFIED:20241129T232930Z
UID:5887-1729641600-1729727999@sndthsc.com
SUMMARY:Exhibition of the Human Ecology and Consumer Services Department and Textile Science and Apparel Design Department
DESCRIPTION:The department of Human Ecology and Consumer Services and Textile Science and Apparel Design organised a exhibition on 23rd October 2023. The exhibition showcased the creative works of the students. Dr. Ganesh Chavan\, Principal \, SNDT College of Home Science inaugurated the exhibition. He appreciated the students work and mentioned that as Home science education largely focuses on hands-on activities\, practicals\, and skill development\, many of the creative works produced through this education have the potential to be patented. If these creations are commercialized\, they will have even greater financial value. The exhibition was organised under the leadership of Dr. Lalieetaa Bbhagat Head of these two departments. The exhibition was visited by staff\, students\, parents\, and distinguished guests from the Pune campus and surrounding areas. \n 
URL:https://sndthsc.com/event/exhibition-of-the-human-ecology-and-consumer-services-department-and-textile-science-and-apparel-design-department/
CATEGORIES:College Event
ATTACH;FMTTYPE=image/jpeg:https://sndthsc.com/wp-content/uploads/2024/11/Exhibition-of-HECS-and-TSAD-dept-1.jpg
END:VEVENT
BEGIN:VEVENT
DTSTART;VALUE=DATE:20241023
DTEND;VALUE=DATE:20241024
DTSTAMP:20260424T142101
CREATED:20241124T232941Z
LAST-MODIFIED:20241129T233217Z
UID:5895-1729641600-1729727999@sndthsc.com
SUMMARY:Display of Aesthetic Accessories: Exploring Creativity\, Design and Expression
DESCRIPTION:Art and design are two creative disciplines that are often intertwined but serve distinct purposes. While both involve creativity\, expression\, and aesthetics\, their objectives and methods can vary greatly. As a part of academic curriculum\, FY.BSc students organized a fair on 23rd October\, 2024 displaying unique\, attractive and diy art work using various materials to make quilling art\, pen stand\, wall hanging\, canvas painting\, light lamp\, crochet flowers\, desk organizer and many such creative accessories under the Design & Aesthetics subject offered by Department of Resource Management.  A total of 70 students came together to showcase their talents with great enthusiasm. \nThe display was inaugurated by Principal Dr. Ganesh Chavan who appreciated the good work done by the students and celebrated not only the art on display\, but also the dedication\, passion and creativity of our young minds.
URL:https://sndthsc.com/event/display-of-aesthetic-accessories-exploring-creativity-design-and-expression/
CATEGORIES:College Event
ATTACH;FMTTYPE=image/jpeg:https://sndthsc.com/wp-content/uploads/2024/11/Display-of-Aesthetic-Accessories-4.jpeg
END:VEVENT
END:VCALENDAR