BEGIN:VCALENDAR
VERSION:2.0
PRODID:-//SNDT College of Home Science - ECPv6.4.0.1//NONSGML v1.0//EN
CALSCALE:GREGORIAN
METHOD:PUBLISH
X-WR-CALNAME:SNDT College of Home Science
X-ORIGINAL-URL:https://sndthsc.com
X-WR-CALDESC:Events for SNDT College of Home Science
REFRESH-INTERVAL;VALUE=DURATION:PT1H
X-Robots-Tag:noindex
X-PUBLISHED-TTL:PT1H
BEGIN:VTIMEZONE
TZID:Asia/Kolkata
BEGIN:STANDARD
TZOFFSETFROM:+0530
TZOFFSETTO:+0530
TZNAME:IST
DTSTART:20250101T000000
END:STANDARD
END:VTIMEZONE
BEGIN:VEVENT
DTSTART;VALUE=DATE:20250107
DTEND;VALUE=DATE:20250108
DTSTAMP:20260420T134308
CREATED:20250109T000852Z
LAST-MODIFIED:20250109T000852Z
UID:5969-1736208000-1736294399@sndthsc.com
SUMMARY:Alumni Interaction
DESCRIPTION:Ms. Aishwarya Phadnis Alumna of HECS department interacted with the HECS students and shared her expriences on 7th January 2024. Aishwarya graduated in 2021 and is presently working as Front Office Manager and Event Manager at MIT University.
URL:https://sndthsc.com/event/alumni-interaction-2/
CATEGORIES:College Event
ATTACH;FMTTYPE=image/jpeg:https://sndthsc.com/wp-content/uploads/2025/01/Alumni-Interaction-1.jpg
END:VEVENT
BEGIN:VEVENT
DTSTART;VALUE=DATE:20250110
DTEND;VALUE=DATE:20250111
DTSTAMP:20260420T134308
CREATED:20250216T223317Z
LAST-MODIFIED:20250216T223317Z
UID:6011-1736467200-1736553599@sndthsc.com
SUMMARY:National Integration Program
DESCRIPTION:On 10th January 2025 National Integration program was organised on 10th January 2025\, wherein students from all specialisations and classes participated. The objective of the program was to inculcate inclusiveness among the students\, makethem cognisant about the rich culture and heritage of India and imbibe values of solidarity\, integrity and respect towards the nation. \n  \n 
URL:https://sndthsc.com/event/national-integration-program/
CATEGORIES:College Event
END:VEVENT
BEGIN:VEVENT
DTSTART;VALUE=DATE:20250110
DTEND;VALUE=DATE:20250111
DTSTAMP:20260420T134308
CREATED:20250216T223553Z
LAST-MODIFIED:20250216T223553Z
UID:6013-1736467200-1736553599@sndthsc.com
SUMMARY:A Field Visit to LSI Vishwaswasthyam Conference
DESCRIPTION:The Department of Food Science and Nutrition\, SNDT College of Home Science organized a field visit for PG Final Year (M.Sc. Clinical Nutrition and Dietetics) students to attend the LSI Vishwaswasthyam Conference 2025 on 10th January 2025\, at Kokilaben Dhirubhai Ambani Hospital\, Mumbai. The conference focused on Integrative Strategies for Metabolic Health\, featuring expert-led sessions on metabolic risks\, pediatric obesity\, diabetes\, precision nutrition\, and health markers. Renowned experts shared insights on emerging research and clinical applications.The visit provided valuable academic exposure\, allowing students to engage with experts and explore advancements in clinical nutrition and dietetics. \n 
URL:https://sndthsc.com/event/a-field-visit-to-lsi-vishwaswasthyam-conference/
CATEGORIES:College Event
ATTACH;FMTTYPE=image/jpeg:https://sndthsc.com/wp-content/uploads/2025/02/Field-Visit-Vishwaswasthyam.jpg
END:VEVENT
BEGIN:VEVENT
DTSTART;VALUE=DATE:20250110
DTEND;VALUE=DATE:20250114
DTSTAMP:20260420T134308
CREATED:20250216T224318Z
LAST-MODIFIED:20250216T224318Z
UID:6016-1736467200-1736812799@sndthsc.com
SUMMARY:Spectrum January 2025
DESCRIPTION:Spectrum January 2025\, the much-anticipated annual event\, took place from January 10th to 13th at SNDT College of Home Science\, Pune\, with an abundance of enthusiasm and warmth. The students celebrated Spectrum Days from January 10th\, 2024\, to January 18th\, 2025\, through a range of themed days such as National Integration Day\, Green Day\, Bollywood Day\, Saree Day\, and Twins/Group Day. The event was officially inaugurated by Dr. Parag Kalkar\, Pro-Vice Chancellor at Savitribai Phule Pune University\, who guided students with his motivating speech and Dr. Ganesh Chavan welcomed the guest with speech following the lighting of the ceremonial lamp. This grand celebration was held at the Smt. F. Z.Tarapore Hall on the college campus. The event featured a variety of activities and competitions\, including the Traditional Attire Fashion Show\, Mehendi/Rangoli competition\,Cookery Contest\, Environment Awareness Rally\, Edu Quiz\, Edu Elocution\, EduEssay Writing\, and a range of sports events (athletics\, tug of war\, dodgeball\, cricket). Additionally\, the Entrepreneurship Mela\, Reel Making competition\, Miss Home Science (Sanskriti In the sports section\, cricket\, tug of war\, and several other activities took center stage. National Integration Day was observed to emphasize the Indian value of Unity in Diversity\, while Green Day focused on environmental awarenessthrough an informative rally and student-created posters promoting eco-friendly practices. The Prize Distribution Ceremony was graced by Prof.Bharat S. Vhankate as the Chief Guest\, where students who excelled in academics\, sports\, cultural events\, and NSS were honoured for their remarkable achievements. The event proved to be a truly engaging experience\, offering students a platform to exhibit their talents while taking a welcome break from their daily routines. Spectrum encouraged creativity and provided various opportunities for students to explore and develop their skills\, leavingthem motivated\, inspired\, and confident. \nPrize Winners :\nSanskrita – Miss Home Science Personality Contest \n\nMiss Sansktrita – Ms. Anuja Bhise (M.Sc. CND I)\n1 st Runner Up – Ms.Tanaya Mankeshwar (B.Sc. HD)\n2 nd Runner Up – Ms. Hrithika Andeli (FYJC)\n\n\nStudents Achievement  Special Prizes: \n\nBest NSS Volunteer – Ms. Neha Wadikar\nSpecial appreciation in UG Pragrams – Ms. Tanishka Deshpande\nBest Outgoing Student UG Programs – Ms. Mrunal Vaidya\nBest Promising Player – Ms. Kousiki Sarkar\nBest Sports Person Senior College – Ms. Arya Beri\nBest Outgoing Student PG Programs – Ms. Sejal Dethe\nSpecial appreciation in PG Programs – Ms. Himani Yakkundi\n\n  \n 
URL:https://sndthsc.com/event/spectrum-january-2025/
CATEGORIES:College Event
ATTACH;FMTTYPE=image/jpeg:https://sndthsc.com/wp-content/uploads/2025/02/Ms.-Sanskrita-spectrum-scaled.jpg
END:VEVENT
BEGIN:VEVENT
DTSTART;VALUE=DATE:20250124
DTEND;VALUE=DATE:20250125
DTSTAMP:20260420T134308
CREATED:20250216T224637Z
LAST-MODIFIED:20250216T224637Z
UID:6049-1737676800-1737763199@sndthsc.com
SUMMARY:E Waste Management
DESCRIPTION:A session on E- waste management was organised on 24th January\, 2025 to create awareness about disposal\, recycling and environmental impact of Electronic waste. Mr. Omkar Ganu from Karo Sambhav delivered the lecture. The lecture was attended by UG and PG students of the college. \n 
URL:https://sndthsc.com/event/e-waste-management/
CATEGORIES:College Event
ATTACH;FMTTYPE=image/jpeg:https://sndthsc.com/wp-content/uploads/2025/02/E-waste-Management-scaled.jpeg
END:VEVENT
BEGIN:VEVENT
DTSTART;VALUE=DATE:20250125
DTEND;VALUE=DATE:20250126
DTSTAMP:20260420T134308
CREATED:20250216T224931Z
LAST-MODIFIED:20250216T224931Z
UID:6053-1737763200-1737849599@sndthsc.com
SUMMARY:Field Visit to the 2nd Nutribolism Conference
DESCRIPTION:SNDT College of Home Science\, Pune had organised a field visit for the  First Year Master’s students of CND specialisation of the Food Science and Nutrition Department on 25 th January 2025 to the 2nd Nutribolism Conference held at the Novotel Hotel\, Andheri East\, Mumbai. The conference aimed at exploring the latest advancements in nutrition\, metabolism\, hormones and their profound effect on health and well-being. Students got an opportunity to interact with and listen to the eminent speakers from across the country and gained a platform for professional growth. \n 
URL:https://sndthsc.com/event/field-visit-to-the-2nd-nutribolism-conference/
CATEGORIES:College Event
ATTACH;FMTTYPE=image/jpeg:https://sndthsc.com/wp-content/uploads/2025/02/Field-Visit-Nutribolism-scaled.jpg
END:VEVENT
BEGIN:VEVENT
DTSTART;VALUE=DATE:20250125
DTEND;VALUE=DATE:20250126
DTSTAMP:20260420T134308
CREATED:20250216T225334Z
LAST-MODIFIED:20250216T225852Z
UID:6056-1737763200-1737849599@sndthsc.com
SUMMARY:Pune Marathi Granthalay: State-Level Handwriting Competition
DESCRIPTION:On January 25\, 2025\, students from the Human Development Department (SY) volunteered at Pune Marathi Granthalay for a State-Level Handwriting Competition. The event\, attended by 900 participants ranging from children to senior citizens\, provided students with valuable experience in event coordination and teamwork. Divided into two groups\, the volunteers managed the upper and ground floors\, ensuring smooth execution of the competition\, which was conducted in two batches: one for school children and the other for adults. The students demonstrated excellent organizational skills\, assisting with registrations and adherence to guidelines. Feedback from participants and organizers was overwhelmingly positive\, with the latter commending the students&#39; dedication and teamwork. The event was a meaningful learning experience\, fostering community engagement and intergenerational interactions. \n 
URL:https://sndthsc.com/event/pune-marathi-granthalay-state-level-handwriting-competition/
CATEGORIES:College Event
ATTACH;FMTTYPE=image/jpeg:https://sndthsc.com/wp-content/uploads/2025/02/Pune-Marathi-Granthalay-Volunteering-1.jpeg
END:VEVENT
BEGIN:VEVENT
DTSTART;VALUE=DATE:20250125
DTEND;VALUE=DATE:20250201
DTSTAMP:20260420T134308
CREATED:20250216T225750Z
LAST-MODIFIED:20250216T225750Z
UID:6063-1737763200-1738367999@sndthsc.com
SUMMARY:NSS Residential Camp
DESCRIPTION:The NSS Residential Camp for the academic year 2024-2025 was organized by SNDT College of Home Science\, Pune\, at Kedgaon\, Pune-Solapur Highway from 25thJanuary to 31st January 2025. The camp aimed to inculcate social responsibility\, leadership skills\, and a spirit of service among students. The week-long program included various activities focusing on community service\, skill development\, awareness programs\, and personality enhancement. The NSS Residential Camp successfully instilled a sense of social responsibility among students. Volunteers actively participated in street plays\, awareness programs\, and skill development activities\, making a positive impact on the village community. Youth developmentsessions provided insights into physical\, mental\, and career growth. The camp fostered teamwork and cultural engagement\, leaving students with enhanced leadership abilities and practical experience in social work.
URL:https://sndthsc.com/event/nss-residential-camp-2/
CATEGORIES:College Event
ATTACH;FMTTYPE=image/jpeg:https://sndthsc.com/wp-content/uploads/2025/02/NSS-Residential-Camp-3.jpg
END:VEVENT
BEGIN:VEVENT
DTSTART;VALUE=DATE:20250128
DTEND;VALUE=DATE:20250129
DTSTAMP:20260420T134308
CREATED:20250216T225534Z
LAST-MODIFIED:20250216T225534Z
UID:6058-1738022400-1738108799@sndthsc.com
SUMMARY:Session on Study Abroad
DESCRIPTION:The study abroad awareness session for final-year undergraduate (UG) and postgraduate (PG) students was organized on 28th January\, 2025 to provide valuable insights into the opportunities available for further studies and career advancements abroad. The session aimed to create awareness regarding various study abroad options such as postgraduate programs\, international internships\, and exchange programs. Italso highlighted the application processes\, scholarships\, and cultural considerations associated with studying overseas. Ms. Anuja Dakhliya\, Mr. Tanmay Singh and Pooja from Fragomen Educational Services conducted this session
URL:https://sndthsc.com/event/session-on-study-abroad/
CATEGORIES:College Event
ATTACH;FMTTYPE=image/jpeg:https://sndthsc.com/wp-content/uploads/2025/02/study-abroad-1-session.jpg
END:VEVENT
END:VCALENDAR