BEGIN:VCALENDAR
VERSION:2.0
PRODID:-//SNDT College of Home Science - ECPv6.4.0.1//NONSGML v1.0//EN
CALSCALE:GREGORIAN
METHOD:PUBLISH
X-ORIGINAL-URL:https://sndthsc.com
X-WR-CALDESC:Events for SNDT College of Home Science
REFRESH-INTERVAL;VALUE=DURATION:PT1H
X-Robots-Tag:noindex
X-PUBLISHED-TTL:PT1H
BEGIN:VTIMEZONE
TZID:Asia/Kolkata
BEGIN:STANDARD
TZOFFSETFROM:+0530
TZOFFSETTO:+0530
TZNAME:IST
DTSTART:20240101T000000
END:STANDARD
END:VTIMEZONE
BEGIN:VEVENT
DTSTART;VALUE=DATE:20240906
DTEND;VALUE=DATE:20240907
DTSTAMP:20260424T232555
CREATED:20241011T151438Z
LAST-MODIFIED:20241011T151438Z
UID:5856-1725580800-1725667199@sndthsc.com
SUMMARY:Ek Ped Ma Ke Naam
DESCRIPTION:As per the guidelines from Government of India\, as a part of “Ek Ped Ma Ke Naam”\, undergraduate and post graduate students participated in the tree plantation drive on 6th September 2024 and planted saplings at SNDT WU\, Pune Campus.  \n 
URL:https://sndthsc.com/event/ek-ped-ma-ke-naam/
CATEGORIES:College Event
ATTACH;FMTTYPE=image/jpeg:https://sndthsc.com/wp-content/uploads/2024/10/1.-Ek-Ped-Ma-ke-Naam.jpg
END:VEVENT
END:VCALENDAR