BEGIN:VCALENDAR
VERSION:2.0
PRODID:-//SNDT College of Home Science - ECPv6.4.0.1//NONSGML v1.0//EN
CALSCALE:GREGORIAN
METHOD:PUBLISH
X-WR-CALNAME:SNDT College of Home Science
X-ORIGINAL-URL:https://sndthsc.com
X-WR-CALDESC:Events for SNDT College of Home Science
REFRESH-INTERVAL;VALUE=DURATION:PT1H
X-Robots-Tag:noindex
X-PUBLISHED-TTL:PT1H
BEGIN:VTIMEZONE
TZID:Asia/Kolkata
BEGIN:STANDARD
TZOFFSETFROM:+0530
TZOFFSETTO:+0530
TZNAME:IST
DTSTART:20240101T000000
END:STANDARD
END:VTIMEZONE
BEGIN:VEVENT
DTSTART;VALUE=DATE:20240922
DTEND;VALUE=DATE:20240923
DTSTAMP:20260424T220827
CREATED:20241011T151223Z
LAST-MODIFIED:20241011T151223Z
UID:5854-1726963200-1727049599@sndthsc.com
SUMMARY:Cleanliness Drive
DESCRIPTION:A cleanliness drive was organized by SNDT College of Home Science on 22nd  September 2024. Students cleaned the college surroundings like Relax Station\, area surroundings near main building and new building. Students took an oath to always keep their surroundings clean and encourage others to do the same. The students were guided by Dr Amar Dhere and Dr. Lalieetaa Bbhagat. \n 
URL:https://sndthsc.com/event/cleanliness-drive/
CATEGORIES:College Event
ATTACH;FMTTYPE=image/jpeg:https://sndthsc.com/wp-content/uploads/2024/10/2-Cleanliness-Drive.jpg
END:VEVENT
END:VCALENDAR