BEGIN:VCALENDAR
VERSION:2.0
PRODID:-//SNDT College of Home Science - ECPv6.4.0.1//NONSGML v1.0//EN
CALSCALE:GREGORIAN
METHOD:PUBLISH
X-WR-CALNAME:SNDT College of Home Science
X-ORIGINAL-URL:https://sndthsc.com
X-WR-CALDESC:Events for SNDT College of Home Science
REFRESH-INTERVAL;VALUE=DURATION:PT1H
X-Robots-Tag:noindex
X-PUBLISHED-TTL:PT1H
BEGIN:VTIMEZONE
TZID:Asia/Kolkata
BEGIN:STANDARD
TZOFFSETFROM:+0530
TZOFFSETTO:+0530
TZNAME:IST
DTSTART:20240101T000000
END:STANDARD
END:VTIMEZONE
BEGIN:VEVENT
DTSTART;VALUE=DATE:20240923
DTEND;VALUE=DATE:20240926
DTSTAMP:20260424T220834
CREATED:20241011T151823Z
LAST-MODIFIED:20241011T151823Z
UID:5860-1727049600-1727308799@sndthsc.com
SUMMARY:National Nutrition Month Celebration
DESCRIPTION:National Nutrition Month 2024 was celebrated with great enthusiasm to raise awareness about the importance of healthy eating and active living. Focus areas for Rashtriya Poshan Maah\, 2024 were Anaemia\, Growth Monitoring\, Complementary Feeding\, Poshan Bhi Padhai Bhi (PBPB)\, Technology for better governance\, transparency and efficient service delivery including other general areas such as; Breastfeeding\, First 1000 days\, Yoga for Health etc. Various engaging activities were organized by the department of Food Science and Nutrition at SNDT College of home Science to promote nutrition education among the students. \nOn 23rd  September 2024\, a cooking competition was arranged to feature participants preparing nutritious beverages\, chutneys and dips using locally sourced ingredients. The emphasis was on creativity and health benefits. A panel of judges evaluated the dishes based on taste\, presentation and nutritional value. Winners received certificates\, fostering a spirit of healthy cooking in the community. \nOn the same day E- Poster making competition was also conducted to encourage participants to creatively express their understanding of Complementary feeding and Importance of nutrition in Anaemia. Students submitted digital posters that focused on two themes namely\, “Importance of Complementary Feeding” and “Combating Anaemia”. edition of the departmental e-newsletter\, “Khadyafora”\, promoting awareness beyond the event. Interesting Nutritional games were made by the students  \nbased on themes like\, Anaemia; Complementary Feeding and Poshan Bhi Padhai Bhi to create awareness among the other students as well as staff members. \nStreet play competition was arranged on 24th September\, 2024 based on the themes of Anaemia\, Poshan Bhi Padhai Bhi and Complementary feeding. Some vibrant street plays were performed by the students\, highlighting the significance of balanced diets and the consequences of poor nutrition. The performance attracted a large audience\, effectively conveying messages about healthy food choices and lifestyle habits. A panel of judges evaluated the plays based on various parameters and chose the winners. \nOn 25th September 2024\,  a seminar was organized by the department of Food Science and Nutrition at SNDT College of Home Science\, Pune focusing on the topics: “The First 1000 Days of Life”; “Human Milk Banking” and “Scope of Lactation Counsellor”\, to spread more knowledge about these areas. The session on “The First 1000 Days of Life” was taken by Ms. Vaishali Madkaikar\, Pediatric Nutritionist\, while the speaker for the other two sessions was Ms. Amrita Desai\, Lactation consultant. \nThe celebration of National Nutrition Month 2024 successfully engaged participants and highlighted the importance of nutrition in everyday life. The combination of performances\, competitions\, and nutrition awareness activities not only educated attendees but also inspired them to make healthier choices. 
URL:https://sndthsc.com/event/national-nutrition-month-celebration/
CATEGORIES:College Event
ATTACH;FMTTYPE=image/jpeg:https://sndthsc.com/wp-content/uploads/2024/10/5-Nutrition-week-Activity.jpeg
END:VEVENT
END:VCALENDAR