BEGIN:VCALENDAR
VERSION:2.0
PRODID:-//SNDT College of Home Science - ECPv6.4.0.1//NONSGML v1.0//EN
CALSCALE:GREGORIAN
METHOD:PUBLISH
X-WR-CALNAME:SNDT College of Home Science
X-ORIGINAL-URL:https://sndthsc.com
X-WR-CALDESC:Events for SNDT College of Home Science
REFRESH-INTERVAL;VALUE=DURATION:PT1H
X-Robots-Tag:noindex
X-PUBLISHED-TTL:PT1H
BEGIN:VTIMEZONE
TZID:Asia/Kolkata
BEGIN:STANDARD
TZOFFSETFROM:+0530
TZOFFSETTO:+0530
TZNAME:IST
DTSTART:20240101T000000
END:STANDARD
END:VTIMEZONE
BEGIN:VEVENT
DTSTART;VALUE=DATE:20241004
DTEND;VALUE=DATE:20241005
DTSTAMP:20260424T165528
CREATED:20241011T151940Z
LAST-MODIFIED:20241011T151940Z
UID:5862-1728000000-1728086399@sndthsc.com
SUMMARY:Orientation lecture on Understanding Entrepreneurship
DESCRIPTION:On 4th October 2024 an orientation lecture on ‘Understanding Entrepreneurship’ was conducted by ‘DeAsra’ for the students of SNDT College of Home Science.‘DeAsra is a foundation started by Dr.Anand Deshpande which helps easy running of small businesses. The platform simplifies the aspects of starting\, managing and growing of the small business. The resource person Mrs. Manisha Tapaswi made the orientation feel so friendly yet so professional for our students. More than 200 students registered and attended the orientation. The Principal Dr. Vrushali Nagarale welcomed the guests and highlighted the importance of entrepreneurship. The orientation program helped the students to identify their sparks of being an entrepreneur and to identify their future’s path. The fun problems in business how to classify and overcome them with the basic human nature made the program engaging.  The success stories of small businesses reaching heights surely made a positive impact on the students inspiring to be the entrepreneurs and job creators. \n 
URL:https://sndthsc.com/event/orientation-lecture-on-understanding-entrepreneurship/
CATEGORIES:College Event
ATTACH;FMTTYPE=image/jpeg:https://sndthsc.com/wp-content/uploads/2024/10/2-Orientation-on-Understanding-entrepreneurship.jpeg
END:VEVENT
BEGIN:VEVENT
DTSTART;VALUE=DATE:20241004
DTEND;VALUE=DATE:20241005
DTSTAMP:20260424T165528
CREATED:20241124T232003Z
LAST-MODIFIED:20241129T232023Z
UID:5874-1728000000-1728086399@sndthsc.com
SUMMARY:Guest Lecture on Preparing for Internship
DESCRIPTION:Internships are invaluable stepping stones in the journey toward a successful career. They provide hands-on experience\, industry insights\, and the opportunity to develop key skills as a powerful tool for personal and professional growth. A seminar was organized on 4th October 2024 on Preparing for Internship by Ms. Gayatri Tekale who is an alumni of the department and currently positioned as Principal Interior designer at Red Pencil Studio. The main purpose was to help students get equipped with knowledge regarding internship\, how to find best positions for the future\, best places to look for\, and how to prepare a portfolio.
URL:https://sndthsc.com/event/guest-lecture-on-preparing-for-internship/
CATEGORIES:College Event
ATTACH;FMTTYPE=image/jpeg:https://sndthsc.com/wp-content/uploads/2024/11/Guest-lecture-on-preparing-Inernship-b.jpg
END:VEVENT
END:VCALENDAR