BEGIN:VCALENDAR
VERSION:2.0
PRODID:-//SNDT College of Home Science - ECPv6.4.0.1//NONSGML v1.0//EN
CALSCALE:GREGORIAN
METHOD:PUBLISH
X-WR-CALNAME:SNDT College of Home Science
X-ORIGINAL-URL:https://sndthsc.com
X-WR-CALDESC:Events for SNDT College of Home Science
REFRESH-INTERVAL;VALUE=DURATION:PT1H
X-Robots-Tag:noindex
X-PUBLISHED-TTL:PT1H
BEGIN:VTIMEZONE
TZID:Asia/Kolkata
BEGIN:STANDARD
TZOFFSETFROM:+0530
TZOFFSETTO:+0530
TZNAME:IST
DTSTART:20240101T000000
END:STANDARD
END:VTIMEZONE
BEGIN:VEVENT
DTSTART;VALUE=DATE:20241019
DTEND;VALUE=DATE:20241020
DTSTAMP:20260424T220757
CREATED:20250108T234737Z
LAST-MODIFIED:20250108T234737Z
UID:5922-1729296000-1729382399@sndthsc.com
SUMMARY:One Day Fun School
DESCRIPTION:The Department of Human Development at SNDT College of Home Science organised a “One Day Fun School” for preschool parents on 19th October 2024. The event was inaugurated by our esteemed Principal\, Dr. Ganesh Chavan. The program featured an exhibition showcasing teaching materials and various activities created by students of B.Sc. Human Development. These resources were specifically designed to facilitate holistic development in preschool children. The displays included sensory activities\, art projects\, and educational games that promote cognitive\, emotional\, and physical development. fun games and activities were organised for preschool children. These games were strategically designed to enhance skills such as teamwork\, problem-solving\, and motor coordination\, all while ensuring a fun and engaging experience for the children. Two informative lectures were arranged for parents\, focusing on child nutrition and the importance of preschool education. The event attracted a large number of parents\, and bothchildren and parents actively participated in the program. Feedback from attendees was overwhelmingly positive\, indicating that the program was aresounding success. One Day Fun School was a remarkable success\, achieving itsobjectives of fostering parental engagement and promoting holistic development for preschool children. The event not only provided valuable resources and knowledge to parents but also created a joyful atmosphere for children to learn and play together. \n 
URL:https://sndthsc.com/event/one-day-fun-school/
CATEGORIES:College Event
ATTACH;FMTTYPE=image/jpeg:https://sndthsc.com/wp-content/uploads/2025/01/One-Day-Funschool-1.jpg
END:VEVENT
END:VCALENDAR