BEGIN:VCALENDAR
VERSION:2.0
PRODID:-//SNDT College of Home Science - ECPv6.4.0.1//NONSGML v1.0//EN
CALSCALE:GREGORIAN
METHOD:PUBLISH
X-WR-CALNAME:SNDT College of Home Science
X-ORIGINAL-URL:https://sndthsc.com
X-WR-CALDESC:Events for SNDT College of Home Science
REFRESH-INTERVAL;VALUE=DURATION:PT1H
X-Robots-Tag:noindex
X-PUBLISHED-TTL:PT1H
BEGIN:VTIMEZONE
TZID:Asia/Kolkata
BEGIN:STANDARD
TZOFFSETFROM:+0530
TZOFFSETTO:+0530
TZNAME:IST
DTSTART:20240101T000000
END:STANDARD
END:VTIMEZONE
BEGIN:VEVENT
DTSTART;VALUE=DATE:20241118
DTEND;VALUE=DATE:20241119
DTSTAMP:20260424T220827
CREATED:20241124T233226Z
LAST-MODIFIED:20241129T233420Z
UID:5901-1731888000-1731974399@sndthsc.com
SUMMARY:Voting Awareness Campaign
DESCRIPTION:Voting awareness campaign was organised at SNDT College of Home Science\, Pune on 18th November 2024. NSS PO Dr. Lalieetaa Bbhagat informed about the activities covered under voter’s awareness campaign. Mr. Dandekar from Art of Living Foundation interacted with the students and mentioned that ‘every vote matters. He explained the importance of voting and responsibility of voters. Prof. Sangita Shirode\, Principal\, SNDT College of Education mentioned that voting is fundamental duty of every citizen and students should be proactive in performing the same. Chairperson of the program\, Dr. Ganesh Chavan\, Principal SNDT College of Home Science\, Pune in his address stated that every eligible citizen must vote By taking part\, individuals fulfil their responsibilities as citizens and contribute to the development of a society that represents their goals and beliefs.
URL:https://sndthsc.com/event/voting-awareness-campaign/
CATEGORIES:College Event
ATTACH;FMTTYPE=image/jpeg:https://sndthsc.com/wp-content/uploads/2024/11/Voters-awareness-Campaign-1.jpg
END:VEVENT
END:VCALENDAR