BEGIN:VCALENDAR
VERSION:2.0
PRODID:-//SNDT College of Home Science - ECPv6.4.0.1//NONSGML v1.0//EN
CALSCALE:GREGORIAN
METHOD:PUBLISH
X-ORIGINAL-URL:https://sndthsc.com
X-WR-CALDESC:Events for SNDT College of Home Science
REFRESH-INTERVAL;VALUE=DURATION:PT1H
X-Robots-Tag:noindex
X-PUBLISHED-TTL:PT1H
BEGIN:VTIMEZONE
TZID:Asia/Kolkata
BEGIN:STANDARD
TZOFFSETFROM:+0530
TZOFFSETTO:+0530
TZNAME:IST
DTSTART:20240101T000000
END:STANDARD
END:VTIMEZONE
BEGIN:VEVENT
DTSTART;VALUE=DATE:20241221
DTEND;VALUE=DATE:20241222
DTSTAMP:20260424T134451
CREATED:20250109T000651Z
LAST-MODIFIED:20250109T000651Z
UID:5960-1734739200-1734825599@sndthsc.com
SUMMARY:AAVISHKAR Student Research Competition
DESCRIPTION:The AAVISHKAR Student Research Competition (Pune Zone) was successfully conducted on 21st December 2024 at Tarapore Hall\, organized by SNDT College of Home Science\, Pune. The event served as a platform for budding researchers to showcase their innovative projects and ideas. A total of 21 teams participated\, representing institutions across Ratnagiri\, Kolhapur\, Ahmednagar and the SNDT Women&#39;s University Pune campus. The competition highlighted the spirit of academic inquiry and fostered interdisciplinary collaboration among students from diverse fields. The event featured various research presentations and projects\, evaluated by a panel of experts from academia and industry. Participants demonstrated exceptional creativity\, critical thinking\, and problem-solving skills\, contributing to the success and intellectual rigor of the competition. \nProf. Virendra Nagarale inaugurated the AAVISHKAR competition as the Chief Guest\, accompanied by the Guest of Honor\, Principal Dr. Ganesh Chavan\, during the inauguration program. \n 
URL:https://sndthsc.com/event/aavishkar-student-research-competition/
CATEGORIES:College Event
ATTACH;FMTTYPE=image/jpeg:https://sndthsc.com/wp-content/uploads/2025/01/Aavishkar-4.jpg
END:VEVENT
END:VCALENDAR