BEGIN:VCALENDAR
VERSION:2.0
PRODID:-//SNDT College of Home Science - ECPv6.4.0.1//NONSGML v1.0//EN
CALSCALE:GREGORIAN
METHOD:PUBLISH
X-WR-CALNAME:SNDT College of Home Science
X-ORIGINAL-URL:https://sndthsc.com
X-WR-CALDESC:Events for SNDT College of Home Science
REFRESH-INTERVAL;VALUE=DURATION:PT1H
X-Robots-Tag:noindex
X-PUBLISHED-TTL:PT1H
BEGIN:VTIMEZONE
TZID:Asia/Kolkata
BEGIN:STANDARD
TZOFFSETFROM:+0530
TZOFFSETTO:+0530
TZNAME:IST
DTSTART:20250101T000000
END:STANDARD
END:VTIMEZONE
BEGIN:VEVENT
DTSTART;VALUE=DATE:20250124
DTEND;VALUE=DATE:20250125
DTSTAMP:20260422T154033
CREATED:20250216T224637Z
LAST-MODIFIED:20250216T224637Z
UID:6049-1737676800-1737763199@sndthsc.com
SUMMARY:E Waste Management
DESCRIPTION:A session on E- waste management was organised on 24th January\, 2025 to create awareness about disposal\, recycling and environmental impact of Electronic waste. Mr. Omkar Ganu from Karo Sambhav delivered the lecture. The lecture was attended by UG and PG students of the college. \n 
URL:https://sndthsc.com/event/e-waste-management/
CATEGORIES:College Event
ATTACH;FMTTYPE=image/jpeg:https://sndthsc.com/wp-content/uploads/2025/02/E-waste-Management-scaled.jpeg
END:VEVENT
END:VCALENDAR