BEGIN:VCALENDAR
VERSION:2.0
PRODID:-//SNDT College of Home Science - ECPv6.4.0.1//NONSGML v1.0//EN
CALSCALE:GREGORIAN
METHOD:PUBLISH
X-WR-CALNAME:SNDT College of Home Science
X-ORIGINAL-URL:https://sndthsc.com
X-WR-CALDESC:Events for SNDT College of Home Science
REFRESH-INTERVAL;VALUE=DURATION:PT1H
X-Robots-Tag:noindex
X-PUBLISHED-TTL:PT1H
BEGIN:VTIMEZONE
TZID:Asia/Kolkata
BEGIN:STANDARD
TZOFFSETFROM:+0530
TZOFFSETTO:+0530
TZNAME:IST
DTSTART:20250101T000000
END:STANDARD
END:VTIMEZONE
BEGIN:VEVENT
DTSTART;VALUE=DATE:20250125
DTEND;VALUE=DATE:20250126
DTSTAMP:20260422T154033
CREATED:20250216T224931Z
LAST-MODIFIED:20250216T224931Z
UID:6053-1737763200-1737849599@sndthsc.com
SUMMARY:Field Visit to the 2nd Nutribolism Conference
DESCRIPTION:SNDT College of Home Science\, Pune had organised a field visit for the  First Year Master’s students of CND specialisation of the Food Science and Nutrition Department on 25 th January 2025 to the 2nd Nutribolism Conference held at the Novotel Hotel\, Andheri East\, Mumbai. The conference aimed at exploring the latest advancements in nutrition\, metabolism\, hormones and their profound effect on health and well-being. Students got an opportunity to interact with and listen to the eminent speakers from across the country and gained a platform for professional growth. \n 
URL:https://sndthsc.com/event/field-visit-to-the-2nd-nutribolism-conference/
CATEGORIES:College Event
ATTACH;FMTTYPE=image/jpeg:https://sndthsc.com/wp-content/uploads/2025/02/Field-Visit-Nutribolism-scaled.jpg
END:VEVENT
BEGIN:VEVENT
DTSTART;VALUE=DATE:20250125
DTEND;VALUE=DATE:20250126
DTSTAMP:20260422T154033
CREATED:20250216T225334Z
LAST-MODIFIED:20250216T225852Z
UID:6056-1737763200-1737849599@sndthsc.com
SUMMARY:Pune Marathi Granthalay: State-Level Handwriting Competition
DESCRIPTION:On January 25\, 2025\, students from the Human Development Department (SY) volunteered at Pune Marathi Granthalay for a State-Level Handwriting Competition. The event\, attended by 900 participants ranging from children to senior citizens\, provided students with valuable experience in event coordination and teamwork. Divided into two groups\, the volunteers managed the upper and ground floors\, ensuring smooth execution of the competition\, which was conducted in two batches: one for school children and the other for adults. The students demonstrated excellent organizational skills\, assisting with registrations and adherence to guidelines. Feedback from participants and organizers was overwhelmingly positive\, with the latter commending the students&#39; dedication and teamwork. The event was a meaningful learning experience\, fostering community engagement and intergenerational interactions. \n 
URL:https://sndthsc.com/event/pune-marathi-granthalay-state-level-handwriting-competition/
CATEGORIES:College Event
ATTACH;FMTTYPE=image/jpeg:https://sndthsc.com/wp-content/uploads/2025/02/Pune-Marathi-Granthalay-Volunteering-1.jpeg
END:VEVENT
BEGIN:VEVENT
DTSTART;VALUE=DATE:20250125
DTEND;VALUE=DATE:20250201
DTSTAMP:20260422T154033
CREATED:20250216T225750Z
LAST-MODIFIED:20250216T225750Z
UID:6063-1737763200-1738367999@sndthsc.com
SUMMARY:NSS Residential Camp
DESCRIPTION:The NSS Residential Camp for the academic year 2024-2025 was organized by SNDT College of Home Science\, Pune\, at Kedgaon\, Pune-Solapur Highway from 25thJanuary to 31st January 2025. The camp aimed to inculcate social responsibility\, leadership skills\, and a spirit of service among students. The week-long program included various activities focusing on community service\, skill development\, awareness programs\, and personality enhancement. The NSS Residential Camp successfully instilled a sense of social responsibility among students. Volunteers actively participated in street plays\, awareness programs\, and skill development activities\, making a positive impact on the village community. Youth developmentsessions provided insights into physical\, mental\, and career growth. The camp fostered teamwork and cultural engagement\, leaving students with enhanced leadership abilities and practical experience in social work.
URL:https://sndthsc.com/event/nss-residential-camp-2/
CATEGORIES:College Event
ATTACH;FMTTYPE=image/jpeg:https://sndthsc.com/wp-content/uploads/2025/02/NSS-Residential-Camp-3.jpg
END:VEVENT
END:VCALENDAR